BEGIN:VCALENDAR
VERSION:2.0
PRODID:Tyler, TX Calendar Creator
METHOD:PUBLISH
BEGIN:VEVENT
DTSTAMP:20260417T144953
DTSTART:20260428T160000
DTEND:20260428T170000
SUMMARY:Tyler Area MPO Open House
DESCRIPTION:<div ltr="" scxw173376283="" bcx8"=""><p scxw173376283="" bcx8"="" paraid="1142489733" paraeid="{a69c2c17-6302-4bb6-ad0e-3519017c0ba6}{8}">The Tyler Area Metropolitan Planning Organization (MPO) will host an open house on&nbsp;Tuesday, April 28,&nbsp;from 4 p.m. to 5 p.m.&nbsp;in the Tyler Development Center, Large Conference Room,&nbsp;located&nbsp;at 423 W. Ferguson St.&nbsp;&nbsp;</p></div><div ltr="" scxw173376283="" bcx8"=""><p scxw173376283="" bcx8"="" paraid="996369303" paraeid="{a69c2c17-6302-4bb6-ad0e-3519017c0ba6}{10}">This will be a come-and-go event. Staff from the MPO will be on hand to answer questions, provide information&nbsp;regarding&nbsp;the updates, and receive public feedback.&nbsp;&nbsp;</p></div><div ltr="" scxw173376283="" bcx8"=""><p scxw173376283="" bcx8"="" paraid="648512713" paraeid="{a69c2c17-6302-4bb6-ad0e-3519017c0ba6}{12}">The Open House is to inform the community about estimated cost updates for two highway projects and two pedestrian projects included in the&nbsp;<a scxw173376283="" bcx8"="" href="https://www.tylerareampo.org/plans-and-projects/upcoming-projects/long-range-plan-mtp" target="_blank" rel="noreferrer noopener">Metropolitan Transportation Plan</a>&nbsp;(MTP) and the&nbsp;<a scxw173376283="" bcx8"="" href="https://www.tylerareampo.org/plans-and-projects/upcoming-projects/short-range-plan-tip" target="_blank" rel="noreferrer noopener">Transportation Improvement Program</a>&nbsp;(TIP).&nbsp;&nbsp;</p></div><div ltr="" scxw173376283="" bcx8"=""><p scxw173376283="" bcx8"="" paraid="1189692059" paraeid="{a69c2c17-6302-4bb6-ad0e-3519017c0ba6}{14}">Projects include:&nbsp;&nbsp;</p></div><div scxw173376283="" bcx8"=""><ul scxw173376283="" bcx8"="" role="list">    <li aria-setsize="-1" data-leveltext="" data-font="Symbol" data-list-defn-props="{&quot;335552541&quot;:1,&quot;335559685&quot;:720,&quot;335559991&quot;:360,&quot;469769226&quot;:&quot;Symbol&quot;,&quot;469769242&quot;:[8226],&quot;469777803&quot;:&quot;left&quot;,&quot;469777804&quot;:&quot;&quot;,&quot;469777815&quot;:&quot;hybridMultilevel&quot;}" data-aria-posinset="1" data-aria-level="1" role="listitem" ltr="" scxw173376283="" bcx8"="">    <p scxw173376283="" bcx8"="" paraid="1437917980" paraeid="{a69c2c17-6302-4bb6-ad0e-3519017c0ba6}{16}">Widening of FM 2493 from Loop 323 to FM 2813&nbsp;&nbsp;&nbsp;</p>    </li></ul></div><div scxw173376283="" bcx8"=""><ul scxw173376283="" bcx8"="" role="list">    <li aria-setsize="-1" data-leveltext="" data-font="Symbol" data-list-defn-props="{&quot;335552541&quot;:1,&quot;335559685&quot;:720,&quot;335559991&quot;:360,&quot;469769226&quot;:&quot;Symbol&quot;,&quot;469769242&quot;:[8226],&quot;469777803&quot;:&quot;left&quot;,&quot;469777804&quot;:&quot;&quot;,&quot;469777815&quot;:&quot;hybridMultilevel&quot;}" data-aria-posinset="2" data-aria-level="1" role="listitem" ltr="" scxw173376283="" bcx8"="">    <p scxw173376283="" bcx8"="" paraid="530958306" paraeid="{a69c2c17-6302-4bb6-ad0e-3519017c0ba6}{18}">Widening of State Highway 31 from Loop 323 to County Road 236&nbsp;</p>    </li></ul></div><div scxw173376283="" bcx8"=""><ul scxw173376283="" bcx8"="" role="list">    <li aria-setsize="-1" data-leveltext="" data-font="Symbol" data-list-defn-props="{&quot;335552541&quot;:1,&quot;335559685&quot;:720,&quot;335559991&quot;:360,&quot;469769226&quot;:&quot;Symbol&quot;,&quot;469769242&quot;:[8226],&quot;469777803&quot;:&quot;left&quot;,&quot;469777804&quot;:&quot;&quot;,&quot;469777815&quot;:&quot;hybridMultilevel&quot;}" data-aria-posinset="3" data-aria-level="1" role="listitem" ltr="" scxw173376283="" bcx8"="">    <p scxw173376283="" bcx8"="" paraid="1025750352" paraeid="{a69c2c17-6302-4bb6-ad0e-3519017c0ba6}{20}">UT Tyler pedestrian safety enhancement project&nbsp;</p>    </li></ul></div><div scxw173376283="" bcx8"=""><ul scxw173376283="" bcx8"="" role="list">    <li aria-setsize="-1" data-leveltext="" data-font="Symbol" data-list-defn-props="{&quot;335552541&quot;:1,&quot;335559685&quot;:720,&quot;335559991&quot;:360,&quot;469769226&quot;:&quot;Symbol&quot;,&quot;469769242&quot;:[8226],&quot;469777803&quot;:&quot;left&quot;,&quot;469777804&quot;:&quot;&quot;,&quot;469777815&quot;:&quot;hybridMultilevel&quot;}" data-aria-posinset="4" data-aria-level="1" role="listitem" ltr="" scxw173376283="" bcx8"="">    <p scxw173376283="" bcx8"="" paraid="1156322316" paraeid="{a69c2c17-6302-4bb6-ad0e-3519017c0ba6}{22}">Tyler ISD traffic signal at Loop 323 and Lion Lane&nbsp;</p>    </li></ul></div>
X-ALT-DESC;FMTTYPE=text/html:<div ltr="" scxw173376283="" bcx8"=""><p scxw173376283="" bcx8"="" paraid="1142489733" paraeid="{a69c2c17-6302-4bb6-ad0e-3519017c0ba6}{8}">The Tyler Area Metropolitan Planning Organization (MPO) will host an open house on&nbsp;Tuesday, April 28,&nbsp;from 4 p.m. to 5 p.m.&nbsp;in the Tyler Development Center, Large Conference Room,&nbsp;located&nbsp;at 423 W. Ferguson St.&nbsp;&nbsp;</p></div><div ltr="" scxw173376283="" bcx8"=""><p scxw173376283="" bcx8"="" paraid="996369303" paraeid="{a69c2c17-6302-4bb6-ad0e-3519017c0ba6}{10}">This will be a come-and-go event. Staff from the MPO will be on hand to answer questions, provide information&nbsp;regarding&nbsp;the updates, and receive public feedback.&nbsp;&nbsp;</p></div><div ltr="" scxw173376283="" bcx8"=""><p scxw173376283="" bcx8"="" paraid="648512713" paraeid="{a69c2c17-6302-4bb6-ad0e-3519017c0ba6}{12}">The Open House is to inform the community about estimated cost updates for two highway projects and two pedestrian projects included in the&nbsp;<a scxw173376283="" bcx8"="" href="https://www.tylerareampo.org/plans-and-projects/upcoming-projects/long-range-plan-mtp" target="_blank" rel="noreferrer noopener">Metropolitan Transportation Plan</a>&nbsp;(MTP) and the&nbsp;<a scxw173376283="" bcx8"="" href="https://www.tylerareampo.org/plans-and-projects/upcoming-projects/short-range-plan-tip" target="_blank" rel="noreferrer noopener">Transportation Improvement Program</a>&nbsp;(TIP).&nbsp;&nbsp;</p></div><div ltr="" scxw173376283="" bcx8"=""><p scxw173376283="" bcx8"="" paraid="1189692059" paraeid="{a69c2c17-6302-4bb6-ad0e-3519017c0ba6}{14}">Projects include:&nbsp;&nbsp;</p></div><div scxw173376283="" bcx8"=""><ul scxw173376283="" bcx8"="" role="list">    <li aria-setsize="-1" data-leveltext="" data-font="Symbol" data-list-defn-props="{&quot;335552541&quot;:1,&quot;335559685&quot;:720,&quot;335559991&quot;:360,&quot;469769226&quot;:&quot;Symbol&quot;,&quot;469769242&quot;:[8226],&quot;469777803&quot;:&quot;left&quot;,&quot;469777804&quot;:&quot;&quot;,&quot;469777815&quot;:&quot;hybridMultilevel&quot;}" data-aria-posinset="1" data-aria-level="1" role="listitem" ltr="" scxw173376283="" bcx8"="">    <p scxw173376283="" bcx8"="" paraid="1437917980" paraeid="{a69c2c17-6302-4bb6-ad0e-3519017c0ba6}{16}">Widening of FM 2493 from Loop 323 to FM 2813&nbsp;&nbsp;&nbsp;</p>    </li></ul></div><div scxw173376283="" bcx8"=""><ul scxw173376283="" bcx8"="" role="list">    <li aria-setsize="-1" data-leveltext="" data-font="Symbol" data-list-defn-props="{&quot;335552541&quot;:1,&quot;335559685&quot;:720,&quot;335559991&quot;:360,&quot;469769226&quot;:&quot;Symbol&quot;,&quot;469769242&quot;:[8226],&quot;469777803&quot;:&quot;left&quot;,&quot;469777804&quot;:&quot;&quot;,&quot;469777815&quot;:&quot;hybridMultilevel&quot;}" data-aria-posinset="2" data-aria-level="1" role="listitem" ltr="" scxw173376283="" bcx8"="">    <p scxw173376283="" bcx8"="" paraid="530958306" paraeid="{a69c2c17-6302-4bb6-ad0e-3519017c0ba6}{18}">Widening of State Highway 31 from Loop 323 to County Road 236&nbsp;</p>    </li></ul></div><div scxw173376283="" bcx8"=""><ul scxw173376283="" bcx8"="" role="list">    <li aria-setsize="-1" data-leveltext="" data-font="Symbol" data-list-defn-props="{&quot;335552541&quot;:1,&quot;335559685&quot;:720,&quot;335559991&quot;:360,&quot;469769226&quot;:&quot;Symbol&quot;,&quot;469769242&quot;:[8226],&quot;469777803&quot;:&quot;left&quot;,&quot;469777804&quot;:&quot;&quot;,&quot;469777815&quot;:&quot;hybridMultilevel&quot;}" data-aria-posinset="3" data-aria-level="1" role="listitem" ltr="" scxw173376283="" bcx8"="">    <p scxw173376283="" bcx8"="" paraid="1025750352" paraeid="{a69c2c17-6302-4bb6-ad0e-3519017c0ba6}{20}">UT Tyler pedestrian safety enhancement project&nbsp;</p>    </li></ul></div><div scxw173376283="" bcx8"=""><ul scxw173376283="" bcx8"="" role="list">    <li aria-setsize="-1" data-leveltext="" data-font="Symbol" data-list-defn-props="{&quot;335552541&quot;:1,&quot;335559685&quot;:720,&quot;335559991&quot;:360,&quot;469769226&quot;:&quot;Symbol&quot;,&quot;469769242&quot;:[8226],&quot;469777803&quot;:&quot;left&quot;,&quot;469777804&quot;:&quot;&quot;,&quot;469777815&quot;:&quot;hybridMultilevel&quot;}" data-aria-posinset="4" data-aria-level="1" role="listitem" ltr="" scxw173376283="" bcx8"="">    <p scxw173376283="" bcx8"="" paraid="1156322316" paraeid="{a69c2c17-6302-4bb6-ad0e-3519017c0ba6}{22}">Tyler ISD traffic signal at Loop 323 and Lion Lane&nbsp;</p>    </li></ul></div>
LOCATION:Tyler Development Center\, 423 W Ferguson St Tyler\, Texas 75702
CLASS:PUBLIC
END:VEVENT
END:VCALENDAR
